BEGIN:VCALENDAR
VERSION:2.0
PRODID:-//hacksw/handcal//NONSGML v1.0//EN
CALSCALE:GREGORIAN
BEGIN:VEVENT
UID:69e84a7dd284a
DTSTAMP:20260422T041141Z
DESCRIPTION:Ohio Wesleyan Choral Art Society and Chamber Choir\, conducted by Jason Hiester\, associate professor of Music\, in Gray Chapel inside University Hall\, 61 S. Sandusky St.\, Delaware. Admission is free. For more information\, visit owu.edu/PerformingArts.
SUMMARY:Choral Art Society / Chamber Choir Concert
DTSTART:20241110T200000Z
DTEND:20241110T220000Z
END:VEVENT
END:VCALENDAR
