BEGIN:VCALENDAR
VERSION:2.0
PRODID:-//hacksw/handcal//NONSGML v1.0//EN
CALSCALE:GREGORIAN
BEGIN:VEVENT
UID:69eca6c120e2d
DTSTAMP:20260425T113425Z
DESCRIPTION:Baccalaureate will begin at 7 p.m. May 10 in Gray Chapel inside University Hall\, 61 S. Sandusky St.\, Delaware. The annual event is planned by students with assistance from the University Chaplain's Office. Baccalaureate typically features poetry and verse readings\, personal reflections\, and dance and music performances. Ohio Wesleyan's Religious Life Awards also are presented during the annual celebration.
Both Ohio Wesleyan's Baccalaureate and 1 p.m. Saturday Commencement ceremonies will be streamed live online at&nbsp\;owu.edu/stream. Learn more about the events at&nbsp\;owu.edu/commencement.
SUMMARY:Class of 2024 Baccalaureate
DTSTART:20240510T230000Z
DTEND:20240511T010000Z
END:VEVENT
END:VCALENDAR
