BEGIN:VCALENDAR
VERSION:2.0
PRODID:-//hacksw/handcal//NONSGML v1.0//EN
CALSCALE:GREGORIAN
BEGIN:VEVENT
UID:69ea8a04d808a
DTSTAMP:20260423T210716Z
DESCRIPTION:Celebrate the holidays with Ohio Wesleyan! Join President Matt vandenBerg and OWU alumni\, family\, and friends at the Cleveland Holiday Party!
Wednesday\, December 11\, 6:30-8:30 p.m.
Cleveland Holiday Party-&nbsp\;Register Here
Market Garden Brewery
&nbsp\;
SUMMARY:Cleveland Holiday Party
DTSTART:20241211
DTEND:20241211
END:VEVENT
END:VCALENDAR
