BEGIN:VCALENDAR
VERSION:2.0
PRODID:-//hacksw/handcal//NONSGML v1.0//EN
CALSCALE:GREGORIAN
BEGIN:VEVENT
UID:69e7bb9a37913
DTSTAMP:20260421T180202Z
DESCRIPTION:Calling all first-gen students! Enjoy a cozy break with hot chocolate\, "Ted's famous biscuits\," and a chance to connect at&nbsp\;"Cocoa with Lasso." Swing by Mowry Alumni Center (next to Ham-Wil) on Monday\, Nov. 4\, from 2-4 p.m. Relax\, enjoy some treats\, connect with others\, and know that we "BELIEVE" in you!
OWU Sponsoring Organization/Office: Mowry Alumni CenterContact: Lindsey Allen at&nbsp\;ldallen@owu.edu
SUMMARY:Cocoa with Lasso: A First-Gen Event
DTSTART:20241104T190000Z
DTEND:20241104T210000Z
END:VEVENT
END:VCALENDAR
