BEGIN:VCALENDAR
VERSION:2.0
PRODID:-//hacksw/handcal//NONSGML v1.0//EN
CALSCALE:GREGORIAN
BEGIN:VEVENT
UID:69ea3750a7aab
DTSTAMP:20260423T151424Z
DESCRIPTION:Join the Philosophy and Religion Department on December 5th at 6 p.m. in the Crider Lounge in HWCC for coffee\, tea\, pastries\, and board games while we question some philosophy topics!
OWU Sponsoring Organization/Office: Philosphy and Religion DepartmentContact: Isabela Rodriguez at&nbsp\;iirodriguezortiz@owu.edu
SUMMARY:Coffee\, Pastries\, and Philosophy Discussion
DTSTART:20241205T230000Z
DTEND:20241206T010000Z
END:VEVENT
END:VCALENDAR
