BEGIN:VCALENDAR
VERSION:2.0
PRODID:-//hacksw/handcal//NONSGML v1.0//EN
CALSCALE:GREGORIAN
BEGIN:VEVENT
UID:69ea36ecab754
DTSTAMP:20260423T151244Z
DESCRIPTION:Counseling Services invites you to join us on Wednesday\, August 28th\, from 12-1pm in the Zook Nook. Along with coffee\, lemonade\, and snacks\, our therapists will be available to provide an overview of our services as well as more information regarding the support systems available to you at OWU. Whether you are curious about what we do at Counseling Services or are actively seeking options for support\, we hope to provide valuable insights and answers to your questions.&nbsp\;Possible topics include:

Confidentiality policies
Types of counseling available (individual\, group\, etc.)
How to schedule an appointment
Common issues addressed (stress\, anxiety\, relationships\, academic concerns\, etc.)
Self-care and wellness resources

OWU Sponsoring Organization/Office: Counseling ServicesContact: Leana Froehlich-Terry at&nbsp\;counselingservices@owu.edu
SUMMARY:Coffee with Counseling Services
DTSTART:20240828T160000Z
DTEND:20240828T170000Z
END:VEVENT
END:VCALENDAR
