BEGIN:VCALENDAR
VERSION:2.0
PRODID:-//hacksw/handcal//NONSGML v1.0//EN
CALSCALE:GREGORIAN
BEGIN:VEVENT
UID:69e80fde13c54
DTSTAMP:20260422T000134Z
DESCRIPTION:Join us for adult coloring and candy as part of our series of&nbsp\; "Thursday Museum Chill Nights" on Thursday November 7th from 6-9pm.&nbsp\;
OWU Sponsoring Organization/Office: Richard M. Ross Art MuseumContact: Ruth Szukala at&nbsp\;ramuseum@owu.edu
SUMMARY:Coloring and Candy Museum Chill Night
DTSTART:20241107T230000Z
DTEND:20241108T020000Z
END:VEVENT
END:VCALENDAR
