BEGIN:VCALENDAR
VERSION:2.0
PRODID:-//hacksw/handcal//NONSGML v1.0//EN
CALSCALE:GREGORIAN
BEGIN:VEVENT
UID:69ece7ac6778e
DTSTAMP:20260425T161124Z
DESCRIPTION:Students join us to relax this Thursday evening with tea\, snacks\, and adult coloring pages from 6-9pm!
OWU Sponsoring Organization/Office: Richard M. Ross Art MuseumContact: Ruth Szukala at&nbsp\;ramuseum@owu.edu
SUMMARY:Coloring and Snacks at The Ross
DTSTART:20250130T230000Z
DTEND:20250131T020000Z
END:VEVENT
END:VCALENDAR
