BEGIN:VCALENDAR
VERSION:2.0
PRODID:-//hacksw/handcal//NONSGML v1.0//EN
CALSCALE:GREGORIAN
BEGIN:VEVENT
UID:69ea22b1e7e96
DTSTAMP:20260423T134625Z
DESCRIPTION:Celebrate the holidays with Ohio Wesleyan! Join President Matt vandenBerg and OWU alumni\, family\, and friends at the Columbus Holiday Party.
Wednesday\, December 4\, 6:30-8:30 p.m.Columbus Holiday Party- Register HereFranklin Park Conservatory &amp\; Botanical Gardens- event will be held in the spacious and beautiful Palm House and Wolfe Terrace
Event catered by Lindey's Restaurant &amp\; sponsored by The Doody Family
SUMMARY:Columbus Holiday Party
DTSTART:20241204T233000Z
DTEND:20241205T013000Z
END:VEVENT
END:VCALENDAR
