BEGIN:VCALENDAR
VERSION:2.0
PRODID:-//hacksw/handcal//NONSGML v1.0//EN
CALSCALE:GREGORIAN
BEGIN:VEVENT
UID:69eac205d34f2
DTSTAMP:20260424T010613Z
DESCRIPTION:In time with the beautiful weather this week\, join the Treehouse to complete a trash pick-up around OWU and Delaware! Students will meet at the Treehouse (located at 110a Rowland Avenue) at 4 pm on Wednesday\, October 25th. Students will then go in groups or pairs to various corners of our community and gather the accumulating litter before it is measured and disposed of. For more information\, check out the Treehouse Instagram&nbsp\;or&nbsp\;Google Site. &nbsp\;
OWU Sponsoring Organization/Office: TreehouseContact: Abby Charlton at&nbsp\;akcharlton@owu.edu
SUMMARY:Community Clean-Up with Treehouse
DTSTART:20231025T200000Z
DTEND:20231025T213000Z
END:VEVENT
END:VCALENDAR
