BEGIN:VCALENDAR
VERSION:2.0
PRODID:-//hacksw/handcal//NONSGML v1.0//EN
CALSCALE:GREGORIAN
BEGIN:VEVENT
UID:69e91ecb2fb6f
DTSTAMP:20260422T191731Z
DESCRIPTION:Ohio Wesleyan composition students' recital and juries\, in Jemison Auditorium inside Sanborn Hall\, 23 Elizabeth St.\, Delaware. Admission is free. For more information\, visit&nbsp\;owu.edu/PerformingArts.
SUMMARY:Composition Students' Recital and Juries
DTSTART:20241117T200000Z
DTEND:20241117T220000Z
END:VEVENT
END:VCALENDAR
