BEGIN:VCALENDAR
VERSION:2.0
PRODID:-//hacksw/handcal//NONSGML v1.0//EN
CALSCALE:GREGORIAN
BEGIN:VEVENT
UID:69eb25759254a
DTSTAMP:20260424T081029Z
DESCRIPTION:Join the Campus Programming Board and taste the flavors of Fall. We will have a few different sweet treats to choose from as you relax with friends and pick out a mini pumpkin to decorate.
OWU Sponsoring Organization/Office: Campus Programming BoardContact: Clara Wood at&nbsp\;cpb@owu.edu
&nbsp\;
SUMMARY:CPB Taste of Fall
DTSTART:20231020T223000Z
DTEND:20231021T000000Z
END:VEVENT
END:VCALENDAR
