BEGIN:VCALENDAR
VERSION:2.0
PRODID:-//hacksw/handcal//NONSGML v1.0//EN
CALSCALE:GREGORIAN
BEGIN:VEVENT
UID:69e8f28421cc7
DTSTAMP:20260422T160836Z
DESCRIPTION:Considering an MFA in Creative Writing? Wondering what the application process entails\, which factors matter most\, and what the experience is really like? Join Director of Creative Writing and Visiting Assistant Professor Dr. Aza Pace for an information session on writing beyond Ohio Wesleyan University. Pizza will be provided.
OWU Sponsoring Organization/Office: OWU English DepartmentContact: Aza Pace at&nbsp\;arpace@owu.edu
SUMMARY:Creative Writing MFA Info Session
DTSTART:20240913T161000Z
DTEND:20240913T170000Z
END:VEVENT
END:VCALENDAR
