BEGIN:VCALENDAR
VERSION:2.0
PRODID:-//hacksw/handcal//NONSGML v1.0//EN
CALSCALE:GREGORIAN
BEGIN:VEVENT
UID:69e99864e69e3
DTSTAMP:20260423T035620Z
DESCRIPTION:Want to meet more people who also love the art of crafting? Come join In The Loop for a social crochet night with your fellow OWU peers! All skill levels welcome. Come chat\, bring your own project to work on\, or start with beginner friendly crochet patterns provided by us. Hope to see you there!
OWU Sponsoring Organization/Office: In The LoopContact: Katie Whitsett at&nbsp\;intheloop@owu.edu
SUMMARY:Crochet Social Night
DTSTART:20240904T223000Z
DTEND:20240905T003000Z
END:VEVENT
END:VCALENDAR
