BEGIN:VCALENDAR
VERSION:2.0
PRODID:-//hacksw/handcal//NONSGML v1.0//EN
CALSCALE:GREGORIAN
BEGIN:VEVENT
UID:69ea795d27e52
DTSTAMP:20260423T195613Z
DESCRIPTION:You're invited to CULTURE FEST '23\, held annually to enable individuals and organizations to showcase their interests\, visions\, and services during this celebratory night of diversity and culture at Ohio Wesleyan. Admission is free. The event is sponsored by the student group\, Horizons.
SUMMARY:Culture Fest '23
DTSTART:20231029T200000Z
DTEND:20231029T230000Z
END:VEVENT
END:VCALENDAR
