BEGIN:VCALENDAR
VERSION:2.0
PRODID:-//hacksw/handcal//NONSGML v1.0//EN
CALSCALE:GREGORIAN
BEGIN:VEVENT
UID:69e9fb934485d
DTSTAMP:20260423T105931Z
DESCRIPTION:Annual Giving welcomes students to stop by the table outside the Mowry Alumni Center on the JAYwalk for a free hot chocolate on Monday\, Dec. 2\, from 8:00 a.m. until 10:00 a.m. Grab a fresh\, hot drink on your way to class and make it your own with your choice of toppings. Stop by and enjoy a cup-full of gratitude... and hot chocolate!
OWU Sponsoring Organization/Office: Annual GivingContact: Emily Creasap at&nbsp\;eccreasap@owu.edu
SUMMARY:Cup-Full of Gratitude FREE Hot Chocolate Bar
DTSTART:20241202T130000Z
DTEND:20241202T150000Z
END:VEVENT
END:VCALENDAR
