BEGIN:VCALENDAR
VERSION:2.0
PRODID:-//hacksw/handcal//NONSGML v1.0//EN
CALSCALE:GREGORIAN
BEGIN:VEVENT
UID:69e865dc2ee5f
DTSTAMP:20260422T060828Z
DESCRIPTION:Annual Giving welcomes students to stop by the table outside the Mowry Alumni Center on the JAYwalk for a free hot chocolate on Monday\, Nov. 27\, from 8:30 a.m. until 10:30 a.m.&nbsp\; Grab a fresh\, hot drink on your way to class and make it your own with your choice of toppings. Stop by and enjoy a cup-full of gratitude... and hot chocolate!
OWU Sponsoring Organization/Office: Annual GivingContact: Emily Creasap at&nbsp\;eccreasap@owu.edu
SUMMARY:Cup-Full of Gratitude - Free Hot Chocolate
DTSTART:20231127T133000Z
DTEND:20231127T153000Z
END:VEVENT
END:VCALENDAR
