BEGIN:VCALENDAR
VERSION:2.0
PRODID:-//hacksw/handcal//NONSGML v1.0//EN
CALSCALE:GREGORIAN
BEGIN:VEVENT
UID:69e811820fedf
DTSTAMP:20260422T000834Z
DESCRIPTION:Looking for something fun to do this Saturday? Join OWU studio-topic dance students in a partnering workshop led by Jackie Courchene and Mollie Wolf\, dance instructors from the OWU Performing Arts Department. No dance experience is required\, and all levels of dance are welcome! Bring your friends!
OWU Sponsoring Organization/Office: OWU Preforming Arts DepartmentContact: Grace Frye at&nbsp\;glfrye@owu.edu
SUMMARY:Dance Partnering Workshop
DTSTART:20231202T160000Z
DTEND:20231202T180000Z
END:VEVENT
END:VCALENDAR
