BEGIN:VCALENDAR
VERSION:2.0
PRODID:-//hacksw/handcal//NONSGML v1.0//EN
CALSCALE:GREGORIAN
BEGIN:VEVENT
UID:69ea791b6d772
DTSTAMP:20260423T195507Z
DESCRIPTION:&nbsp\;Get ready for the event of the semester! CPB presents OWU&apos\;s favorite event: Day on the JAY! This semester&apos\;s theme features a Y2k experience that&apos\;ll blow your mind! We go bigger and better with carnival rides\, a mobile petting zoo\, food\, giveaways\, and more. This is an event you don&apos\;t want to miss. We guarantee it.
Day on the JAY! &apos\;Fetch Fun Fair&apos\;
OWU Sponsoring Organization/Office: Campus Programming Board
SUMMARY:Day on the JAY
DTSTART:20240823T153000Z
DTEND:20240823T173000Z
END:VEVENT
END:VCALENDAR
