BEGIN:VCALENDAR
VERSION:2.0
PRODID:-//hacksw/handcal//NONSGML v1.0//EN
CALSCALE:GREGORIAN
BEGIN:VEVENT
UID:69e74f24c4849
DTSTAMP:20260421T101916Z
DESCRIPTION:Lunch and Learn: Decode the Debates Date and Time: October 3 from 12:10-1 p.m. | Pizza lunch will be provided.&nbsp\;Location: Merrick 204&nbsp\;Description: Did you watch the vice-presidential debate? Did you find it confusing? Annoying? What are the candidates arguing about? Can a Vice President even DO anything about the economy\, reproductive rights\, or the environment? Come unpack the debate through an interdisciplinary lens. Talk to your professors in AGIS\, Communications\, and Politics &amp\; Government about the upcoming election. We will watch a few clips and try to decipher what's at stake\, answer your questions about the election\, and talk about where you can find out more about the issues that concern you.&nbsp\;&nbsp\;&nbsp\;&nbsp\;Ashley Biser - PG Department&nbsp\;Dawn Chisebe - Africana\, Gender\, and Identity Studies&nbsp\;Phokeng Daily - Journalism and Communications&nbsp\;&nbsp\;&nbsp\;
OWU Sponsoring Organization/Office: SNCContact: Jill Hayes at&nbsp\;snc@owu.edu
SUMMARY:Decode the VP Debate
DTSTART:20241003T161000Z
DTEND:20241003T170000Z
END:VEVENT
END:VCALENDAR
