BEGIN:VCALENDAR
VERSION:2.0
PRODID:-//hacksw/handcal//NONSGML v1.0//EN
CALSCALE:GREGORIAN
BEGIN:VEVENT
UID:69e821a64a65f
DTSTAMP:20260422T011726Z
DESCRIPTION:Celebrate 100 years of Delta Zeta at Ohio Wesleyan.&nbsp\; Click Here to register and to see a full lineup of events occuring during the weekend. Registration ends November 3\, 2024.
As well as the Delta Zeta events happening\, don't forget to register for Women Of Wesleyan\, click Here to register for this special event.&nbsp\; For Women of Wesleyan\, Register by Oct 28\, 2024 to receive a personalized CliftonStrengths assessment.&nbsp\; Final registration closes November 3\, 2024.
SUMMARY:Delta Zeta Alpha Rho 100th Anniversary Celebration
DTSTART:20241108
DTEND:20241108
END:VEVENT
END:VCALENDAR
