BEGIN:VCALENDAR
VERSION:2.0
PRODID:-//hacksw/handcal//NONSGML v1.0//EN
CALSCALE:GREGORIAN
BEGIN:VEVENT
UID:69e91e5d4ecf6
DTSTAMP:20260422T191541Z
DESCRIPTION:
Did you watch the presidential debate? Did you find it confusing? Annoying? What are the candidates arguing about? Can a president even do anything about the economy\, reproductive rights\, or the environment?
Come talk to your professors and fellow students about the debate. We will watch a few clips and try to decipher what&apos\;s at stake\, answer your questions about the election\, and talk about where you can find out more about the issues that concern you.


OWU Sponsoring Organization/Office: Sagan National ColloquiumContact: Jill Hayes at&nbsp\;snc@owu.edu

SUMMARY:Democracy Matters: Decoding the Debate
DTSTART:20240911T161000Z
DTEND:20240911T170000Z
END:VEVENT
END:VCALENDAR
