BEGIN:VCALENDAR
VERSION:2.0
PRODID:-//hacksw/handcal//NONSGML v1.0//EN
CALSCALE:GREGORIAN
BEGIN:VEVENT
UID:69eb6b03373cc
DTSTAMP:20260424T130715Z
DESCRIPTION:SENIORS!&nbsp\;Considering grad/professional school after OWU? If so\, join us for&nbsp\;Demystifying the Path to Grad / Professional School&nbsp\;panel on&nbsp\;Thursday\, October 26th @7pm on Zoom. You will hear from admissions counselors from a wide range of graduate school programs including business\, law\, health sciences\, engineering/data science\, education\, humanities/arts\, and&nbsp\; counseling as they share insights about the application review process. They will provide tips on finding your authentic voice\, and managing you finances during your grad education\, while debunking myths about the grad school application process! Register on Handshake TODAY for this event! While event is intended for seniors\, all students are welcome. Please reach out to&nbsp\;careers@owu.edu with any questions &amp\; we look forward to seeing you there!
Register on Handshake TODAY for this event! While event is intended for seniors\, all students are welcome. Please reach out to&nbsp\;careers@owu.edu&nbsp\;with any questions &amp\; we look forward to seeing you there!
OWU Sponsoring Organization/Office: Career ConnectionContact: Josie Martin at&nbsp\;careers2@owu.edu
&nbsp\;
SUMMARY:Demystifying the Path to Grad/Professional School
DTSTART:20231026T230000Z
DTEND:20231027T000000Z
END:VEVENT
END:VCALENDAR
