BEGIN:VCALENDAR
VERSION:2.0
PRODID:-//hacksw/handcal//NONSGML v1.0//EN
CALSCALE:GREGORIAN
BEGIN:VEVENT
UID:69ea79544cb59
DTSTAMP:20260423T195604Z
DESCRIPTION:Celebrate the holidays with Ohio Wesleyan! Join OWU alumni\, family\, and friends to enjoy the spirit of the season at the Denver Holiday Party!
Tuesday\, December 10\, 6:30-8:30 p.m.Denver Holiday Party- Register HereIrish Rover-Limerick Room
SUMMARY:Denver Holiday Party
DTSTART:20241210
DTEND:20241210
END:VEVENT
END:VCALENDAR
