BEGIN:VCALENDAR
VERSION:2.0
PRODID:-//hacksw/handcal//NONSGML v1.0//EN
CALSCALE:GREGORIAN
BEGIN:VEVENT
UID:69e8520b0e484
DTSTAMP:20260422T044355Z
DESCRIPTION:Departmental student recital\, in Jemison Auditorium inside Sanborn Hall\, 23 Elizabeth St.\, Delaware. Admission is free. For more information\, visit owu.edu/PerformingArts.
SUMMARY:Departmental Student Recital
DTSTART:20231129T010000Z
DTEND:20231129T030000Z
END:VEVENT
END:VCALENDAR
