BEGIN:VCALENDAR
VERSION:2.0
PRODID:-//hacksw/handcal//NONSGML v1.0//EN
CALSCALE:GREGORIAN
BEGIN:VEVENT
UID:69e7fc66d2ebb
DTSTAMP:20260421T223830Z
DESCRIPTION:Departmental student recital\, in Jemison Auditorium inside Sanborn Hall\, 23 Elizabeth St.\, Delaware. Admission is free. For more information\, visit&nbsp\;owu.edu/PerformingArts.
SUMMARY:Departmental Student Recital
DTSTART:20231203T200000Z
DTEND:20231203T220000Z
END:VEVENT
END:VCALENDAR
