BEGIN:VCALENDAR
VERSION:2.0
PRODID:-//hacksw/handcal//NONSGML v1.0//EN
CALSCALE:GREGORIAN
BEGIN:VEVENT
UID:69e826bdaf255
DTSTAMP:20260422T013909Z
DESCRIPTION:OWU Directing Class One-Acts. Produced and mentored by Lusie Cuskey\, assistant professor\, the pieces will be performed in Chappelear Drama Center\, 45 Rowland Ave.\, Delaware. Admission is free. For more information\, call the box office at (740) 368-3855 or visit owu.edu/PerformingArts.
SUMMARY:Directing Class One-Acts
DTSTART:20231202T003000Z
DTEND:20231202T023000Z
END:VEVENT
END:VCALENDAR
