BEGIN:VCALENDAR
VERSION:2.0
PRODID:-//hacksw/handcal//NONSGML v1.0//EN
CALSCALE:GREGORIAN
BEGIN:VEVENT
UID:69ea4c1b76a07
DTSTAMP:20260423T164307Z
DESCRIPTION:Ohio Wesleyan Directing Class One-Acts\, in Chappelear Drama Center\, 45 Rowland Ave.\, Delaware. Lusie Cuskey\, assistant professor of Theatre\, will mentor the students and produce the pieces\, which may contain adult language and themes. Admission is free. For more information\, visit owu.edu/PerformingArts.
SUMMARY:Directing Class One-Acts
DTSTART:20241207T003000Z
DTEND:20241207T023000Z
END:VEVENT
END:VCALENDAR
