BEGIN:VCALENDAR
VERSION:2.0
PRODID:-//hacksw/handcal//NONSGML v1.0//EN
CALSCALE:GREGORIAN
BEGIN:VEVENT
UID:69ea36f19ed76
DTSTAMP:20260423T151249Z
DESCRIPTION:To recognize OWU Wellness Week and National Stress Awareness Day\, Counseling Services is sponsoring a drop-in wellness space on Wednesday\, November 1st from 11am-2pm in HWCC 304. Games\, coloring\, fidgets\, and resources will be available to use on your own or with your friends. At noon\, we will also offer a guided meditation led by Dr. Inna Fatkins. Please feel free to come and go as needed to take a moment for yourself during the busy day!
OWU Sponsoring Organization/Office: OWU Counseling ServicesContact: Leana Froehlich-Terry at&nbsp\;counselingservices@owu.edu
SUMMARY:Drop-in Wellness Space
DTSTART:20231101T150000Z
DTEND:20231101T180000Z
END:VEVENT
END:VCALENDAR
