BEGIN:VCALENDAR
VERSION:2.0
PRODID:-//hacksw/handcal//NONSGML v1.0//EN
CALSCALE:GREGORIAN
BEGIN:VEVENT
UID:69e85b0d7eaee
DTSTAMP:20260422T052221Z
DESCRIPTION:Navin A. Bapat\, Ph.D.\, the Dowd Professor in the Study of Peace and War at the University of North Carolina &ndash\; Chapel Hill\, presents &ldquo\;Afghanistan and the End of the War on Terror\,&rdquo\; in the Benes Rooms inside Hamilton-Williams Campus Center\, 40 Rowland Ave.\, Delaware. Bapat&rsquo\;s talk will explore the background of al Qaeda&rsquo\;s campaign against the United States\, the aftermath of Operation Enduring Freedom\, the structural flaws in the U.S. strategy\, and the aftermath of the Taliban victory. His presentation is OWU&rsquo\;s 2021-2022 John Kennard Eddy Memorial Lecture on World Politics. The free lecture is sponsored the OWU International Studies Program and the Department of Politics and Government. Learn more at www.owu.edu/internationalstudies or www.owu.edu/politics.
SUMMARY:Eddy Lecture: Navin A. Bapat\, Ph.D.
DTSTART:20220404T223000Z
DTEND:20220404T233000Z
END:VEVENT
END:VCALENDAR
