BEGIN:VCALENDAR
VERSION:2.0
PRODID:-//hacksw/handcal//NONSGML v1.0//EN
CALSCALE:GREGORIAN
BEGIN:VEVENT
UID:69ead5cd05155
DTSTAMP:20260424T023037Z
DESCRIPTION:Are you an Education major\, or interested in potentially being an education major? Come chat with Education faculty and get advice on what classes you should take! Stop by Phillips Hall room 210 from 12-1 on Tuesday\, October 24. This will be especially helpful for those students not being advised by an Education faculty member\, but current Education faculty advisees are welcome\, too!
OWU Sponsoring Organization/Office: Education DepartmentContact: Sarah Kaka at&nbsp\;sjkaka@owu.edu
SUMMARY:Education Department Advising Session
DTSTART:20231024T160000Z
DTEND:20231024T170000Z
END:VEVENT
END:VCALENDAR
