BEGIN:VCALENDAR
VERSION:2.0
PRODID:-//hacksw/handcal//NONSGML v1.0//EN
CALSCALE:GREGORIAN
BEGIN:VEVENT
UID:69e82127077d4
DTSTAMP:20260422T011519Z
DESCRIPTION:Do you have questions about the election results?&nbsp\; Are you confused about the (potential) lack of results on Election Night?&nbsp\; What happens after the elections?&nbsp\; We hope you will join us!&nbsp\;&nbsp\;Bring your own lunch and join us upstairs in Ham-Wil 304. Friday\, November 8th from 12:10 - 1:00 pm. Hamilton Williams Campus Center 304
OWU Sponsoring Organization/Office: Sagan National ColloquiumContact: Jill Hayes at&nbsp\;snc@owu.edu
SUMMARY:Election 2024 Debrief
DTSTART:20241108T171000Z
DTEND:20241108T180000Z
END:VEVENT
END:VCALENDAR
