BEGIN:VCALENDAR
VERSION:2.0
PRODID:-//hacksw/handcal//NONSGML v1.0//EN
CALSCALE:GREGORIAN
BEGIN:VEVENT
UID:69e7cf24b53e4
DTSTAMP:20260421T192524Z
DESCRIPTION:OWU is pleased to provide transportation for students who are registered to vote here in Delaware County and want to do so on Election Day.&nbsp\; On Tuesday November 5\, 8am-4pm\, you can catch a ride to one of the polling locations for OWU students.

Pick up and drop off is at the roundabout between HamWill and Chappelear Drama Center.
Shuttle will leave every 15 minutes.&nbsp\; The last shuttle to the polls will depart at 4pm
Check your polling location&nbsp\;before you head out: (use the address at which you are registered to&nbsp\;vote).&nbsp\; OWU dorms have multiple polling locations.
Bring one of the accepted types of identification: an unexpired Ohio drivers license\, Ohio identification\, US military identification\, US Veterans Affairs ID card\, US passport or US passport card&nbsp\; &nbsp\;You will not be able to vote on Election Day if you don't have one of these IDs

For more information visit&nbsp\;OWU's Election Information website.&nbsp\;There\, you will find explanations of election integrity\, ballot preparation\, and media coverage on election results.&nbsp\; The website is a one-stop shop for your voting concerns.&nbsp\; Contact Dr. Mack if you have any questions.
Make your voice heard on Election Day.&nbsp\; Your vote matters!
SUMMARY:Election Day Shuttle
DTSTART:20241105T130000Z
DTEND:20241105T210000Z
END:VEVENT
END:VCALENDAR
