BEGIN:VCALENDAR
VERSION:2.0
PRODID:-//hacksw/handcal//NONSGML v1.0//EN
CALSCALE:GREGORIAN
BEGIN:VEVENT
UID:69eb9f6c99abd
DTSTAMP:20260424T165052Z
DESCRIPTION:Alicia Brown Exhibition\, at Ohio Wesleyan's Richard M. Ross Art Museum\, 60 S. Sandusky St.\, Delaware. Based in Sarasota\, Florida\, painter Alicia Brown investigates colonial histories and legacies through portraiture. Born in Jamaica\, her work is personal\, powerful\, and intimate. Her sitters are painted lovingly and reflect the artist's gentle but profound awareness of the forces shaping identity. Learn more at www.alicialisabrown.com. During the academic year\, the Ross is open Tuesday\, Wednesday\, and Friday from 10 a.m. to 5 p.m.\; Thursday from 10 a.m. to 9 p.m.\; and Sunday from 1 p.m. to 5 p.m. The museum is handicap-accessible and admission is always free. Call (740) 368-3606 or visit owu.edu/ross for more information.
SUMMARY:Exhibition: Alicia Brown
DTSTART:20250114T150000Z
DTEND:20250114T220000Z
END:VEVENT
END:VCALENDAR
