BEGIN:VCALENDAR
VERSION:2.0
PRODID:-//hacksw/handcal//NONSGML v1.0//EN
CALSCALE:GREGORIAN
BEGIN:VEVENT
UID:69e95e70e7187
DTSTAMP:20260422T234904Z
DESCRIPTION:Considering a future in nursing? Join representatives from OWU and Mt. Carmel College of Nursing (MCCN) for an engaging information session and Q&amp\;A about the&nbsp\;OWU-MCCN Nursing Pathway. Whether you're already on the pathway\, thinking about starting\, or just exploring your options in healthcare\, this session will provide valuable insights into one of healthcare's most dynamic careers. Learn about program requirements\, clinical experiences\, career opportunities\, and get your questions answered directly by MCCN representatives. The nursing field continues to offer exceptional career prospects\, competitive salaries\, and the opportunity to make a real difference in people's lives. Don't miss this chance to explore your potential future in nursing! (Plus\, we&apos\;ll have pizza!)&nbsp\;Date: Tuesday\, November 19\, 2024&nbsp\;Time: 7:00 - 8:30 PM&nbsp\;Location: Slocum Hall 201&nbsp\;It would help our planning if you could indicate your interest by completing our very brief registration form&nbsp\;here. (Registration is not required for attendance!)&nbsp\;Questions? Contact Dr. David Markwardt\, Chief Pre-Health Advisor and Associate Dean of the OWU Connection\, at&nbsp\;ddmarkwa@owu.edu.
SUMMARY:Explore Your Future in Nursing
DTSTART:20241120T000000Z
DTEND:20241120T013000Z
END:VEVENT
END:VCALENDAR
