BEGIN:VCALENDAR
VERSION:2.0
PRODID:-//hacksw/handcal//NONSGML v1.0//EN
CALSCALE:GREGORIAN
BEGIN:VEVENT
UID:69ea53171b9cf
DTSTAMP:20260423T171255Z
DESCRIPTION:8 p.m. Feb. 18\, 2020 &ndash\; Faculty Recital\, featuring Mr. Jeremy Smith\, trombone and Liguang Zhao\, piano\, in Jemison Auditorium inside Sanborn Hall\, 23 Elizabeth St.\, Delaware. Admission is free. Learn more at www.owu.edu/music.
SUMMARY:Faculty Recital
DTSTART:20200219T010000Z
DTEND:20200219T020000Z
END:VEVENT
END:VCALENDAR
