BEGIN:VCALENDAR
VERSION:2.0
PRODID:-//hacksw/handcal//NONSGML v1.0//EN
CALSCALE:GREGORIAN
BEGIN:VEVENT
UID:69e7914be519a
DTSTAMP:20260421T150131Z
DESCRIPTION:Ohio Wesleyan faculty recital\, featuring Dr. Mariko Kenda\, piano\, in Jemison Auditorium inside Sanborn Hall\, 23 Elizabeth St.\, Delaware. Admission is free. For more information\, visit&nbsp\;owu.edu/PerformingArts.
SUMMARY:Faculty Recital
DTSTART:20241103T200000Z
DTEND:20241103T210000Z
END:VEVENT
END:VCALENDAR
