BEGIN:VCALENDAR
VERSION:2.0
PRODID:-//hacksw/handcal//NONSGML v1.0//EN
CALSCALE:GREGORIAN
BEGIN:VEVENT
UID:69e6db980f4e0
DTSTAMP:20260421T020616Z
DESCRIPTION:9:00 a.m. to 5 p.m. Sept. 28\, 2023&ndash\; Fall 2023 OWU Connection Conference\, featuring a day where the OWU campus is transformed into a student-centered\, professional conference setting where students\, faculty\, staff\, alumni\, and the central Ohio community can experience each element of the OWU Connection through interactive\, thought-provoking\, dynamic\, student-led panels\, poster presentations\, performances\, exhibits\, and roundtables.&nbsp\; All participants will see and hear how our students have researched big questions\,&nbsp\;given back&nbsp\;to the community through sustained service\, traveled&nbsp\;and&nbsp\;engaged with different cultures\,&nbsp\;explored potential career paths\, and&nbsp\;imagined the many ways their future may take shape.
Admission is free. As events are finalized\, they will be added to the conference webpage at&nbsp\;owu.edu/ConnectionConference.
SUMMARY:Fall 2023 OWU Connection Conference
DTSTART:20230928T130000Z
DTEND:20230928T210000Z
END:VEVENT
END:VCALENDAR
