BEGIN:VCALENDAR
VERSION:2.0
PRODID:-//hacksw/handcal//NONSGML v1.0//EN
CALSCALE:GREGORIAN
BEGIN:VEVENT
UID:69e7bdf774046
DTSTAMP:20260421T181207Z
DESCRIPTION:Black Wall Street\, in the atrium of Hamilton-Williams Campus Center\, 40 Rowland Ave.\, Delaware. Guests are invited to learn\, network\, and shop from local BIPOC-owned businesses and OWU BIPOC student-entrepreneurs promoting their ventures. Black Wall Street is inspired by the legacy of Tulsa\, Oklahoma's Greenwood District\, known as Black Wall Street. Free food will be provided by Donna's Delicious Donuts and Taesty's Southern Style. This OWU event is in partnership with The Woltemade Center for Economics\, Business\, and Entrepreneurship\; Office of Multicultural Student Affairs\, Delaware Entrepreneurial Center at OWU\; and OWU Connection.
SUMMARY:Fall 2024 OWU Connection Conference: Black Wall Street
DTSTART:20240926T160000Z
DTEND:20240926T180000Z
END:VEVENT
END:VCALENDAR
