BEGIN:VCALENDAR
VERSION:2.0
PRODID:-//hacksw/handcal//NONSGML v1.0//EN
CALSCALE:GREGORIAN
BEGIN:VEVENT
UID:69e7be589fb15
DTSTAMP:20260421T181344Z
DESCRIPTION:Patricia Belt Conrades Summer Science Research Symposium\, in the atrium of the Schimmel/Conrades Science Center\, 90 S. Henry St.\, Delaware. The annual symposium features poster presentations from Ohio Wesleyan students who participated in OWU's 10-week Summer Science Research Program or who conducted summer research at other institutions around the country. The student-scientists will explain their original research and answer questions.
SUMMARY:Fall 2024 OWU Connection Conference: Patricia Belt Conrades Summer Science Research Symposium
DTSTART:20240926T170000Z
DTEND:20240926T190000Z
END:VEVENT
END:VCALENDAR
