BEGIN:VCALENDAR
VERSION:2.0
PRODID:-//hacksw/handcal//NONSGML v1.0//EN
CALSCALE:GREGORIAN
BEGIN:VEVENT
UID:69e7bda4d9d7a
DTSTAMP:20260421T181044Z
DESCRIPTION:Student presentations\, panels\, and peer-to-peer discussions\, in locations throughout the Ohio Wesleyan campus. This fall's conference will include students practicing their skills in civil discourse after completing new virtual Perspectives training provided by the Constructive Dialogue Institute. The training will help everyone to have productive\, respectful conversations regarding difficult and potentially divisive topics.
SUMMARY:Fall 2024 OWU Connection Conference
DTSTART:20240926T123000Z
DTEND:20240926T200000Z
END:VEVENT
END:VCALENDAR
