BEGIN:VCALENDAR
VERSION:2.0
PRODID:-//hacksw/handcal//NONSGML v1.0//EN
CALSCALE:GREGORIAN
BEGIN:VEVENT
UID:69e73a809290d
DTSTAMP:20260421T085112Z
DESCRIPTION:Nurses in the Spanish-American War
Presented by Vickie Sheets\, JD\, BSN\, BA '72
In the American Civil War\, the military was reluctant to use female nurses. By the start of the Spanish-American War in 1898\, the military sought to contract with professionally trained nurses to serve sick and wounded soldiers. This presentation will explain what had changed and how the excellent service of nurses in this short war contributed to the creation of the Army and Navy Nurse Corps in the early 1900s.
This is a virtual program and the zoom link will be shared a week prior to the presentation.
Register&nbsp\;HERE
SUMMARY:February Monnett Club
DTSTART:20250211T000000Z
DTEND:20250211T013000Z
END:VEVENT
END:VCALENDAR
