BEGIN:VCALENDAR
VERSION:2.0
PRODID:-//hacksw/handcal//NONSGML v1.0//EN
CALSCALE:GREGORIAN
BEGIN:VEVENT
UID:69eb765f0da97
DTSTAMP:20260424T135543Z
DESCRIPTION:Final Exams in 5-week courses are Thursday-Friday\, Jun. 20-21\, 2024.&nbsp\;View the full academic calendar.&nbsp\;
SUMMARY:Final Exams
DTSTART:20240620
DTEND:20240620
END:VEVENT
END:VCALENDAR
