BEGIN:VCALENDAR
VERSION:2.0
PRODID:-//hacksw/handcal//NONSGML v1.0//EN
CALSCALE:GREGORIAN
BEGIN:VEVENT
UID:69eb3a32ce5ef
DTSTAMP:20260424T093858Z
DESCRIPTION:Final Exams in 10-week courses are Thursday-Friday\, Jul. 25-26\, 2024.&nbsp\;View the full academic calendar.&nbsp\;
SUMMARY:Final Exams
DTSTART:20240725
DTEND:20240725
END:VEVENT
END:VCALENDAR
