BEGIN:VCALENDAR
VERSION:2.0
PRODID:-//hacksw/handcal//NONSGML v1.0//EN
CALSCALE:GREGORIAN
BEGIN:VEVENT
UID:69ecc4eef04ff
DTSTAMP:20260425T134310Z
DESCRIPTION:Good luck in finals\, Bishops!
SUMMARY:Final Exams
DTSTART:20260430
DTEND:20260430
END:VEVENT
END:VCALENDAR
