BEGIN:VCALENDAR
VERSION:2.0
PRODID:-//hacksw/handcal//NONSGML v1.0//EN
CALSCALE:GREGORIAN
BEGIN:VEVENT
UID:69e99864da6ab
DTSTAMP:20260423T035620Z
DESCRIPTION:The Delaware County District Library bookmobile will be on the JAY this Wednesday\, November 8 from 12:45-1:45pm to help the OWU Libraries wrap up their Find Your Haunt program. This is the last day to gather your stickers and turn in your button for a chance at free spring textbooks. Bookmobile and other collections are free with a public library card. You can register for a free card at the bookmobile or online using your campus address at&nbsp\;https://www.delawarelibrary.org/librarycard/.
OWU Sponsoring Organization/Office: OWU LibrariesContact: Dee Peterson at&nbsp\;libraries@owu.edu
&nbsp\;
SUMMARY:Find Your Haunt\, Visit the Bookmobile
DTSTART:20231108T174500Z
DTEND:20231108T184500Z
END:VEVENT
END:VCALENDAR
