BEGIN:VCALENDAR
VERSION:2.0
PRODID:-//hacksw/handcal//NONSGML v1.0//EN
CALSCALE:GREGORIAN
BEGIN:VEVENT
UID:69e9ac4d4c58e
DTSTAMP:20260423T052117Z
DESCRIPTION:Fine Arts Majors and Minors\, and all who are interested in taking an art class\, are welcome to join the Fine Arts Department for our Welcome Back Social!&nbsp\; Tuesday\, September 3rd from Noon-1pm\, there will be pizza and the chance to meet your classmates\, and get to know your professors. Learn about the student art group SLAM and ask questions about the different classes available. Edgar Hall\, 35 S Sandusky Street!
OWU Sponsoring Organization/Office: Fine ArtsContact: Tammy Wallace at&nbsp\;tpwallac@owu.edu
SUMMARY:Fine Arts Dept. Welcome Back Social
DTSTART:20240903T160000Z
DTEND:20240903T170000Z
END:VEVENT
END:VCALENDAR
