BEGIN:VCALENDAR
VERSION:2.0
PRODID:-//hacksw/handcal//NONSGML v1.0//EN
CALSCALE:GREGORIAN
BEGIN:VEVENT
UID:69e85af55064f
DTSTAMP:20260422T052157Z
DESCRIPTION:Ohio Wesleyan&rsquo\;s graduating fine arts students exhibit works juried by their OWU professors\, at the Richard M. Ross Art Museum\, 60 S. Sandusky St.\, Delaware. The exhibit will include an artist reception from 5-6:30 p.m. Saturday\, April 9\, at the museum. It will run through May 6.
Learn more about OWU&rsquo\;s fine arts department at&nbsp\;owu.edu/finearts. During the academic year\, the Ross Art Museum is open Tuesday\, Wednesday\, and Friday from 10 a.m. to 5 p.m.\; Thursday from 10 a.m. to 9 p.m.\; and Sunday from 1 p.m. to 5 p.m. The museum is handicap-accessible and admission is always free. Call (740) 368-3606 or visit&nbsp\;owu.edu/ross&nbsp\;for more information.
All event information is subject to change. For the latest details and additional campus events\, visit&nbsp\;www.owu.edu/events&nbsp\;or &ldquo\;like&rdquo\;&nbsp\;www.facebook.com/OhioWesleyanUniversityNews.
SUMMARY:Fine Arts Graduating Students Exhibition Reception
DTSTART:20220409T210000Z
DTEND:20220409T223000Z
END:VEVENT
END:VCALENDAR
