BEGIN:VCALENDAR
VERSION:2.0
PRODID:-//hacksw/handcal//NONSGML v1.0//EN
CALSCALE:GREGORIAN
BEGIN:VEVENT
UID:69e5480114749
DTSTAMP:20260419T212417Z
DESCRIPTION:Monday\, May 20\, 2024\, is OWU&rsquo\;s first day of classes for the 2024 summer session.&nbsp\;View the full academic calendar.&nbsp\;
SUMMARY:First Day of Classes
DTSTART:20240520
DTEND:20240520
END:VEVENT
END:VCALENDAR
