BEGIN:VCALENDAR
VERSION:2.0
PRODID:-//hacksw/handcal//NONSGML v1.0//EN
CALSCALE:GREGORIAN
BEGIN:VEVENT
UID:69ea9dcb39721
DTSTAMP:20260423T223139Z
DESCRIPTION:You may be in college\, but you know someone you love will be waiting for a "First Day of School" photo.&nbsp\; Stop by the Mowry Alumni Center on Wednesday\, August 21 from 8 a.m. until 1 p.m. to take a fun photo with our sign board. Really want to capture the moment? Fill out one of our OWU-themed back to school sheets! We are excited to welcome all of our Bishops to the 2024-2025 academic year&nbsp\;
OWU Sponsoring Organization/Office: University AdvancementContact: Emily Creasap at&nbsp\;eccreasap@owu.edu
SUMMARY:First Day of School Photos
DTSTART:20240821T120000Z
DTEND:20240821T170000Z
END:VEVENT
END:VCALENDAR
